BEGIN:VCALENDAR
VERSION:2.0
PRODID:-//Vermont Small Business Law Center - ECPv6.15.20//NONSGML v1.0//EN
CALSCALE:GREGORIAN
METHOD:PUBLISH
X-WR-CALNAME:Vermont Small Business Law Center
X-ORIGINAL-URL:https://sblc.vermontlaw.edu
X-WR-CALDESC:Events for Vermont Small Business Law Center
REFRESH-INTERVAL;VALUE=DURATION:PT1H
X-Robots-Tag:noindex
X-PUBLISHED-TTL:PT1H
BEGIN:VTIMEZONE
TZID:America/New_York
BEGIN:DAYLIGHT
TZOFFSETFROM:-0500
TZOFFSETTO:-0400
TZNAME:EDT
DTSTART:20250309T070000
END:DAYLIGHT
BEGIN:STANDARD
TZOFFSETFROM:-0400
TZOFFSETTO:-0500
TZNAME:EST
DTSTART:20251102T060000
END:STANDARD
BEGIN:DAYLIGHT
TZOFFSETFROM:-0500
TZOFFSETTO:-0400
TZNAME:EDT
DTSTART:20260308T070000
END:DAYLIGHT
BEGIN:STANDARD
TZOFFSETFROM:-0400
TZOFFSETTO:-0500
TZNAME:EST
DTSTART:20261101T060000
END:STANDARD
BEGIN:DAYLIGHT
TZOFFSETFROM:-0500
TZOFFSETTO:-0400
TZNAME:EDT
DTSTART:20270314T070000
END:DAYLIGHT
BEGIN:STANDARD
TZOFFSETFROM:-0400
TZOFFSETTO:-0500
TZNAME:EST
DTSTART:20271107T060000
END:STANDARD
END:VTIMEZONE
BEGIN:VEVENT
DTSTART;TZID=America/New_York:20260416T110000
DTEND;TZID=America/New_York:20260416T130000
DTSTAMP:20260422T050638
CREATED:20260217T150539Z
LAST-MODIFIED:20260413T203552Z
UID:3677-1776337200-1776344400@sblc.vermontlaw.edu
SUMMARY:Legal Basics for Startups - Thursday\, 4/16/26 - (This session is at capacity)
DESCRIPTION:Legal Basics for Small Businesses: A Free Bi-Monthly Presentation with Q&A\nThinking about starting a business\, or have some questions you have been waiting on since you started? Join faculty and students from the Vermont Small Business Law Center at Vermont Law & Graduate School\, for a conversation about the legal essentials of launching and managing your small business. These interactive sessions cover critical topics such as business formation\, contracts\, intellectual property protection\, and basic regulatory compliance. Each Zoom session includes a live Q&A\, so bring your questions! \nRegistration is limited to 12 per session. We host this event every 3rd Thursday of the month. \n  \nRegistration Required \n\nALL SEATS FILLED FOR APRIL 16. PLEASE RETURN TO THE EVENTS PAGE TO FIND OTHER DATES. \n\nThursday\, April 16:  11:00 am – 1:00 pm          Register here\n\n\n 
URL:https://sblc.vermontlaw.edu/events/legal-basics-for-startups-thursday-4-16-26/
LOCATION:Virtual
CATEGORIES:Educational Presentations,Start-Up Basics,Webinar
ATTACH;FMTTYPE=image/png:https://sblc.vermontlaw.edu/wp-content/uploads/2025/01/grand-opening.png
ORGANIZER;CN="Vermont Small Business Law Center":MAILTO:sblc@vermontlaw.edu
END:VEVENT
END:VCALENDAR