BEGIN:VCALENDAR
VERSION:2.0
PRODID:-//Vermont Small Business Law Center - ECPv6.15.20//NONSGML v1.0//EN
CALSCALE:GREGORIAN
METHOD:PUBLISH
X-ORIGINAL-URL:https://sblc.vermontlaw.edu
X-WR-CALDESC:Events for Vermont Small Business Law Center
REFRESH-INTERVAL;VALUE=DURATION:PT1H
X-Robots-Tag:noindex
X-PUBLISHED-TTL:PT1H
BEGIN:VTIMEZONE
TZID:America/New_York
BEGIN:DAYLIGHT
TZOFFSETFROM:-0500
TZOFFSETTO:-0400
TZNAME:EDT
DTSTART:20250309T070000
END:DAYLIGHT
BEGIN:STANDARD
TZOFFSETFROM:-0400
TZOFFSETTO:-0500
TZNAME:EST
DTSTART:20251102T060000
END:STANDARD
BEGIN:DAYLIGHT
TZOFFSETFROM:-0500
TZOFFSETTO:-0400
TZNAME:EDT
DTSTART:20260308T070000
END:DAYLIGHT
BEGIN:STANDARD
TZOFFSETFROM:-0400
TZOFFSETTO:-0500
TZNAME:EST
DTSTART:20261101T060000
END:STANDARD
BEGIN:DAYLIGHT
TZOFFSETFROM:-0500
TZOFFSETTO:-0400
TZNAME:EDT
DTSTART:20270314T070000
END:DAYLIGHT
BEGIN:STANDARD
TZOFFSETFROM:-0400
TZOFFSETTO:-0500
TZNAME:EST
DTSTART:20271107T060000
END:STANDARD
END:VTIMEZONE
BEGIN:VEVENT
DTSTART;TZID=America/New_York:20260318T110000
DTEND;TZID=America/New_York:20260318T130000
DTSTAMP:20260422T064008
CREATED:20260211T173601Z
LAST-MODIFIED:20260220T185641Z
UID:3665-1773831600-1773838800@sblc.vermontlaw.edu
SUMMARY:Legal Basics for Vermont Food-Based Small Businesses
DESCRIPTION:Thinking about starting or growing your food-based business in Vermont?  Join the Vermont Small Business Law Center for a free webinar covering the essential legal considerations for food entrepreneurs to stay compliant and protect their business as it grows.  A panel of faculty and students will walk through key topics like business entity formation\, licensing and permits\, labeling and regulations\, and liability issues specific to food production and sales.  Whether you run a farm stand\, food truck\, catering company\, or packaged food brand\, this session will help you build a strong legal foundation for your venture. \n  \nThe workshop will be held by Zoom. \nPresented in partnership with CVOEO (Champlain Valley Office of Economic Opportunity). This class is intended for folks looking to start a business or those already in business with similar questions. Visit the class page for the registration link. \n  \nTo see other educational opportunities\, visit CVOEO’s registration page.
URL:https://sblc.vermontlaw.edu/events/legal-basics-for-small-vermont-food-businesses/
LOCATION:Virtual
CATEGORIES:Educational Presentations,Webinar
ATTACH;FMTTYPE=image/png:https://sblc.vermontlaw.edu/wp-content/uploads/2026/02/Cafe-Owner.png
END:VEVENT
BEGIN:VEVENT
DTSTART;TZID=America/New_York:20260319T110000
DTEND;TZID=America/New_York:20260319T130000
DTSTAMP:20260422T064008
CREATED:20260217T151017Z
LAST-MODIFIED:20260319T131459Z
UID:3680-1773918000-1773925200@sblc.vermontlaw.edu
SUMMARY:Legal Basics for Startups - Thursday\, 3/19/26
DESCRIPTION:Legal Basics for Small Businesses: A Free Bi-Monthly Presentation with Q&A\nThinking about starting a business\, or have some questions you have been waiting on since you started? Join faculty and students from the Vermont Small Business Law Center at Vermont Law & Graduate School\, for a conversation about the legal essentials of launching and managing your small business. These interactive sessions cover critical topics such as business formation\, contracts\, intellectual property protection\, and basic regulatory compliance. Each Zoom session includes a live Q&A\, so bring your questions! \nRegistration is limited to 12 per session. We host this event every 3rd Thursday of the month. \n  \nRegistration Required \n\nFollow a link below to register for an upcoming session. \n\nThursday\, March 19:  11:00 am – 1:00 pm       Register here  – Session is full\, but email sblc@vermontlaw.edu if you’d like to be put on a waiting list in case there is a no-show.\nThursday\, April 16:  11:00 am – 1:00 pm          Register here\n\n\n 
URL:https://sblc.vermontlaw.edu/events/legal-basics-for-startups-thursday-3-19-26-2/
LOCATION:Virtual
CATEGORIES:Educational Presentations,Start-Up Basics,Webinar
ATTACH;FMTTYPE=image/png:https://sblc.vermontlaw.edu/wp-content/uploads/2025/01/grand-opening.png
ORGANIZER;CN="Vermont Small Business Law Center":MAILTO:sblc@vermontlaw.edu
END:VEVENT
END:VCALENDAR